BEGIN:VCALENDAR
VERSION:2.0
PRODID:-//Andy Rider - ECPv4.5.12.2//NONSGML v1.0//EN
CALSCALE:GREGORIAN
METHOD:PUBLISH
X-WR-CALNAME:Andy Rider
X-ORIGINAL-URL:http://theandyrider.com
X-WR-CALDESC:Events for Andy Rider
BEGIN:VEVENT
DTSTART;TZID=UTC+0:20191214T200000
DTEND;TZID=UTC+0:20191214T220000
DTSTAMP:20260422T155833
CREATED:20191103T001833Z
LAST-MODIFIED:20191103T001833Z
UID:501-1576353600-1576360800@theandyrider.com
SUMMARY:You Had to Be There
DESCRIPTION:Cool show at Tao Comedy in Koreatown! 15 minutes of me!  Worth it! \n
URL:http://theandyrider.com/?tribe_events=you-had-to-be-there-3
LOCATION:131 S Western Avenue\, Los Angeles\, CA\, 90004\, United States
END:VEVENT
END:VCALENDAR