BEGIN:VCALENDAR
VERSION:2.0
PRODID:-//Andy Rider - ECPv4.5.12.2//NONSGML v1.0//EN
CALSCALE:GREGORIAN
METHOD:PUBLISH
X-WR-CALNAME:Andy Rider
X-ORIGINAL-URL:http://theandyrider.com
X-WR-CALDESC:Events for Andy Rider
BEGIN:VEVENT
DTSTART;TZID=UTC+0:20200208T190000
DTEND;TZID=UTC+0:20200208T210000
DTSTAMP:20260422T113341
CREATED:20200206T225539Z
LAST-MODIFIED:20200206T225539Z
UID:529-1581188400-1581195600@theandyrider.com
SUMMARY:Would You Rather?
DESCRIPTION:Doing this comedy show Saturday night with some funny friends and we gotta decide what we’d rather do for a random series of options.  See us comedians finally be shocked by what we have to choose between! \n
URL:http://theandyrider.com/?tribe_events=would-you-rather
LOCATION:7817 Melrose Avenue\, Los Angeles\, CA\, United States
END:VEVENT
END:VCALENDAR