BEGIN:VCALENDAR
VERSION:2.0
PRODID:-//Andy Rider - ECPv4.5.12.2//NONSGML v1.0//EN
CALSCALE:GREGORIAN
METHOD:PUBLISH
X-WR-CALNAME:Andy Rider
X-ORIGINAL-URL:http://theandyrider.com
X-WR-CALDESC:Events for Andy Rider
BEGIN:VEVENT
DTSTART;TZID=UTC+0:20190914T210000
DTEND;TZID=UTC+0:20190914T220000
DTSTAMP:20260423T164149
CREATED:20190911T210917Z
LAST-MODIFIED:20190911T210917Z
UID:456-1568494800-1568498400@theandyrider.com
SUMMARY:The Jigsaw!
DESCRIPTION:Doing improv with my friend Micah Bleich at The Pack Theatre!  It’s been a while since I last did improv\, but I’ve still got the chops so come out and watch the two of us do a five minute monoscene. \n
URL:http://theandyrider.com/?tribe_events=the-jigsaw-2
LOCATION:6470 Santa Monica Blvd\, Los Angeles\, CA\, 90038\, United States
END:VEVENT
END:VCALENDAR