BEGIN:VCALENDAR
VERSION:2.0
PRODID:-//Andy Rider - ECPv4.5.12.2//NONSGML v1.0//EN
CALSCALE:GREGORIAN
METHOD:PUBLISH
X-WR-CALNAME:Andy Rider
X-ORIGINAL-URL:http://theandyrider.com
X-WR-CALDESC:Events for Andy Rider
BEGIN:VEVENT
DTSTART;TZID=UTC+0:20191121T213000
DTEND;TZID=UTC+0:20191121T230000
DTSTAMP:20260422T160454
CREATED:20191121T005738Z
LAST-MODIFIED:20191121T005738Z
UID:507-1574371800-1574377200@theandyrider.com
SUMMARY:The Happening!
DESCRIPTION:Doing a hot show with Rachel Mac\, Eddie Della Siepe and Adam Conover at 9:30pm   Great line-up and it’s sponsored by Jarritos so lots of Jarritos! \n
URL:http://theandyrider.com/?tribe_events=the-happening
LOCATION:6470 Santa Monica Blvd\, Los Angeles\, CA\, 90038\, United States
END:VEVENT
END:VCALENDAR