BEGIN:VCALENDAR
VERSION:2.0
PRODID:-//Andy Rider - ECPv4.5.12.2//NONSGML v1.0//EN
CALSCALE:GREGORIAN
METHOD:PUBLISH
X-WR-CALNAME:Andy Rider
X-ORIGINAL-URL:http://theandyrider.com
X-WR-CALDESC:Events for Andy Rider
BEGIN:VEVENT
DTSTART;TZID=UTC+0:20191124T200000
DTEND;TZID=UTC+0:20191124T213000
DTSTAMP:20260422T142729
CREATED:20191103T001055Z
LAST-MODIFIED:20191103T001055Z
UID:493-1574625600-1574631000@theandyrider.com
SUMMARY:Pointless Comedy
DESCRIPTION:There’s nothing Pointless about this show!  Seen it several times and very happy to finally do it.  Great hosts and always a fire line up! \n
URL:http://theandyrider.com/?tribe_events=pointless-comedy
LOCATION:1607 N. Vermont Avenue\, Los Angeles\, CA\, 90027\, United States
END:VEVENT
END:VCALENDAR