BEGIN:VCALENDAR
VERSION:2.0
PRODID:-//Andy Rider - ECPv4.5.12.2//NONSGML v1.0//EN
CALSCALE:GREGORIAN
METHOD:PUBLISH
X-WR-CALNAME:Andy Rider
X-ORIGINAL-URL:http://theandyrider.com
X-WR-CALDESC:Events for Andy Rider
BEGIN:VEVENT
DTSTART;TZID=UTC+0:20190930T210000
DTEND;TZID=UTC+0:20190930T210000
DTSTAMP:20260423T094826
CREATED:20190911T212722Z
LAST-MODIFIED:20190911T212722Z
UID:465-1569877200-1569877200@theandyrider.com
SUMMARY:Petie's Place
DESCRIPTION:Doing a show at a dive bar in Tarzana!!!  Fun fact: the guy who wrote Tarzan named this part of town.  Probably hung out at this bar too if we’re being honest.  Come experience history! \n
URL:http://theandyrider.com/?tribe_events=peties-place
LOCATION:6025 Reseda Blvd\, Tarzana\, CA\, 91356\, United States
END:VEVENT
END:VCALENDAR