BEGIN:VCALENDAR
VERSION:2.0
PRODID:-//Andy Rider - ECPv4.5.12.2//NONSGML v1.0//EN
CALSCALE:GREGORIAN
METHOD:PUBLISH
X-WR-CALNAME:Andy Rider
X-ORIGINAL-URL:http://theandyrider.com
X-WR-CALDESC:Events for Andy Rider
BEGIN:VEVENT
DTSTART;TZID=UTC+0:20200106T203000
DTEND;TZID=UTC+0:20200106T223000
DTSTAMP:20260422T173616
CREATED:20200206T224031Z
LAST-MODIFIED:20200206T224031Z
UID:512-1578342600-1578349800@theandyrider.com
SUMMARY:KIBITZ COMEDY SHOW
DESCRIPTION:Doing a hot show next to Canter’s Deli and loving every second of it.  Free show\, street parking\, good times! \n
URL:http://theandyrider.com/?tribe_events=kibitz-comedy-show
LOCATION:419 North Fairfax Avenue\, Los Angeles\, CA\, United States
END:VEVENT
END:VCALENDAR