BEGIN:VCALENDAR
VERSION:2.0
PRODID:-//Andy Rider - ECPv4.5.12.2//NONSGML v1.0//EN
CALSCALE:GREGORIAN
METHOD:PUBLISH
X-WR-CALNAME:Andy Rider
X-ORIGINAL-URL:http://theandyrider.com
X-WR-CALDESC:Events for Andy Rider
BEGIN:VEVENT
DTSTART;TZID=UTC+0:20190912T193000
DTEND;TZID=UTC+0:20190912T210000
DTSTAMP:20260423T183245
CREATED:20190911T210727Z
LAST-MODIFIED:20190911T210727Z
UID:453-1568316600-1568322000@theandyrider.com
SUMMARY:Hyperion Tavern Booked Spot
DESCRIPTION:Doing a booked spot on this sweet\, sweet mic.  Fun fact\, this was the third mic I ever went to when I moved to Los Angeles.  So fun! \n
URL:http://theandyrider.com/?tribe_events=hyperion-tavern-booked-spot
LOCATION:1941 Hyperion Ave\, Los Angeles\, CA\, 90027\, United States
END:VEVENT
END:VCALENDAR