BEGIN:VCALENDAR
VERSION:2.0
PRODID:-//Andy Rider - ECPv4.5.12.2//NONSGML v1.0//EN
CALSCALE:GREGORIAN
METHOD:PUBLISH
X-WR-CALNAME:Andy Rider
X-ORIGINAL-URL:http://theandyrider.com
X-WR-CALDESC:Events for Andy Rider
BEGIN:VEVENT
DTSTART;TZID=UTC+0:20200221T213000
DTEND;TZID=UTC+0:20200221T230000
DTSTAMP:20260422T105549
CREATED:20200206T230541Z
LAST-MODIFIED:20200206T230541Z
UID:534-1582320600-1582326000@theandyrider.com
SUMMARY:Free Puppies
DESCRIPTION:Hey\, I’m on a variety show where all donations go to an animal shelter!  Comedy for the betterment of animals\, hurray! \n
URL:http://theandyrider.com/?tribe_events=free-puppies
LOCATION:1607 N. Vermont Avenue\, Los Angeles\, CA\, 90027\, United States
END:VEVENT
END:VCALENDAR