BEGIN:VCALENDAR
VERSION:2.0
PRODID:-//Andy Rider - ECPv4.5.12.2//NONSGML v1.0//EN
CALSCALE:GREGORIAN
METHOD:PUBLISH
X-WR-CALNAME:Andy Rider
X-ORIGINAL-URL:http://theandyrider.com
X-WR-CALDESC:Events for Andy Rider
BEGIN:VEVENT
DTSTART;TZID=UTC+0:20191105T200000
DTEND;TZID=UTC+0:20191105T220000
DTSTAMP:20260422T225601
CREATED:20191102T235800Z
LAST-MODIFIED:20191102T235800Z
UID:481-1572984000-1572991200@theandyrider.com
SUMMARY:Copper Still
DESCRIPTION:Cool variety show where I’m doing an improv set with my pal Winston Carter!  Also the food at this place is really good and if you’re lucky you will see the bar tender greet me with a ‘Chris\, right?’ \n
URL:http://theandyrider.com/?tribe_events=copper-still
LOCATION:4485 Beverly Blvd.\, Los Angeles\, CA\, United States
END:VEVENT
END:VCALENDAR