BEGIN:VCALENDAR
VERSION:2.0
PRODID:-//Andy Rider - ECPv4.5.12.2//NONSGML v1.0//EN
CALSCALE:GREGORIAN
METHOD:PUBLISH
X-WR-CALNAME:Andy Rider
X-ORIGINAL-URL:http://theandyrider.com
X-WR-CALDESC:Events for Andy Rider
BEGIN:VEVENT
DTSTART;TZID=UTC+0:20200206T200000
DTEND;TZID=UTC+0:20200206T220000
DTSTAMP:20260422T130011
CREATED:20200206T225203Z
LAST-MODIFIED:20200206T225203Z
UID:526-1581019200-1581026400@theandyrider.com
SUMMARY:Comic Books and Comedy #60
DESCRIPTION:Celebrating the 5 year anniversary of this very cool comedy show in a comic book shop! Drawings\, great comics and one of the coolest comic book shops in all of LA\, what more could you want? \n
URL:http://theandyrider.com/?tribe_events=comic-books-and-comedy-60
LOCATION:412 Broadway\, Santa Monica\, CA\, 90401\, United States
END:VEVENT
END:VCALENDAR