BEGIN:VCALENDAR
VERSION:2.0
PRODID:-//Andy Rider - ECPv4.5.12.2//NONSGML v1.0//EN
CALSCALE:GREGORIAN
METHOD:PUBLISH
X-WR-CALNAME:Andy Rider
X-ORIGINAL-URL:http://theandyrider.com
X-WR-CALDESC:Events for Andy Rider
BEGIN:VEVENT
DTSTART;TZID=UTC+0:20200127T210000
DTEND;TZID=UTC+0:20200127T223000
DTSTAMP:20260422T175206
CREATED:20200206T224728Z
LAST-MODIFIED:20200206T224728Z
UID:519-1580158800-1580164200@theandyrider.com
SUMMARY:Comedy Quench at the Thirsty Ox!
DESCRIPTION:Cool show in a dive bar with a parking lot\, even trying out some new material\, so that’s a pretty good reason to show! \n
URL:http://theandyrider.com/?tribe_events=comedy-quench-at-the-thirsty-ox
LOCATION:640 N. Ventura Road\, Oxnard\, CA\, United States
END:VEVENT
END:VCALENDAR