BEGIN:VCALENDAR
VERSION:2.0
PRODID:-//Andy Rider - ECPv4.5.12.2//NONSGML v1.0//EN
CALSCALE:GREGORIAN
METHOD:PUBLISH
X-WR-CALNAME:Andy Rider
X-ORIGINAL-URL:http://theandyrider.com
X-WR-CALDESC:Events for Andy Rider
BEGIN:VEVENT
DTSTART;TZID=UTC+0:20191119T203000
DTEND;TZID=UTC+0:20191119T220000
DTSTAMP:20260422T161637
CREATED:20191103T000800Z
LAST-MODIFIED:20191103T000800Z
UID:489-1574195400-1574200800@theandyrider.com
SUMMARY:Comedy in English
DESCRIPTION:Doing a hot 15 minutes for a foreign crowd in a youth hostel in Santa Monica. It could be the best night of all our lives! \n
URL:http://theandyrider.com/?tribe_events=comedy-in-english
LOCATION:1436 2nd Street\, Santa Monica\, CA\, 90401\, United States
END:VEVENT
END:VCALENDAR