BEGIN:VCALENDAR
VERSION:2.0
PRODID:-//Andy Rider - ECPv4.5.12.2//NONSGML v1.0//EN
CALSCALE:GREGORIAN
METHOD:PUBLISH
X-WR-CALNAME:Andy Rider
X-ORIGINAL-URL:http://theandyrider.com
X-WR-CALDESC:Events for Andy Rider
BEGIN:VEVENT
DTSTART;TZID=UTC+0:20200125T210000
DTEND;TZID=UTC+0:20200125T223000
DTSTAMP:20260422T194101
CREATED:20200206T224439Z
LAST-MODIFIED:20200206T224439Z
UID:517-1579986000-1579991400@theandyrider.com
SUMMARY:Cobbler Presents: Midnight Snack
DESCRIPTION:One of my favorite LA variety shows.  Lots of improv\, characters and stand-up.  Free show\, free parking with an actual parking lot and free drinks!! \n
URL:http://theandyrider.com/?tribe_events=cobbler-presents-midnight-snack-2
LOCATION:1607 N. Vermont Avenue\, Los Angeles\, CA\, 90027\, United States
END:VEVENT
END:VCALENDAR