BEGIN:VCALENDAR
VERSION:2.0
PRODID:-//Andy Rider - ECPv4.5.12.2//NONSGML v1.0//EN
CALSCALE:GREGORIAN
METHOD:PUBLISH
X-WR-CALNAME:Andy Rider
X-ORIGINAL-URL:http://theandyrider.com
X-WR-CALDESC:Events for Andy Rider
BEGIN:VEVENT
DTSTART;TZID=UTC+0:20190918T200000
DTEND;TZID=UTC+0:20190918T220000
DTSTAMP:20260423T145637
CREATED:20190911T211402Z
LAST-MODIFIED:20190911T211402Z
UID:458-1568836800-1568844000@theandyrider.com
SUMMARY:Clean Comedy at The Bunker!!!
DESCRIPTION:Doing a clean show at The Bunker on a Wednesday night!  It’s gonna be so exhilirating\, come one\, come all! \n
URL:http://theandyrider.com/?tribe_events=clean-comedy-at-the-bunker
LOCATION:2200 W Burbank Blvd\, Ste B\, Los Angeles\, CA\, 91506\, United States
END:VEVENT
END:VCALENDAR