BEGIN:VCALENDAR
VERSION:2.0
PRODID:-//Andy Rider - ECPv4.5.12.2//NONSGML v1.0//EN
CALSCALE:GREGORIAN
METHOD:PUBLISH
X-WR-CALNAME:Andy Rider
X-ORIGINAL-URL:http://theandyrider.com
X-WR-CALDESC:Events for Andy Rider
BEGIN:VEVENT
DTSTART;TZID=UTC+0:20191005T230000
DTEND;TZID=UTC+0:20191006T000000
DTSTAMP:20260423T062556
CREATED:20191001T180312Z
LAST-MODIFIED:20191001T180312Z
UID:472-1570316400-1570320000@theandyrider.com
SUMMARY:Chain Reaction
DESCRIPTION:This cool show is back and I’ll be doing a set based on the act that comes before me in the show.  You’ll never know what’s going to happen so buckle in! \n
URL:http://theandyrider.com/?tribe_events=chain-reaction
LOCATION:1607 N. Vermont Avenue\, Los Angeles\, CA\, 90027\, United States
END:VEVENT
END:VCALENDAR