BEGIN:VCALENDAR
VERSION:2.0
PRODID:-//Andy Rider - ECPv4.5.12.2//NONSGML v1.0//EN
CALSCALE:GREGORIAN
METHOD:PUBLISH
X-WR-CALNAME:Andy Rider
X-ORIGINAL-URL:http://theandyrider.com
X-WR-CALDESC:Events for Andy Rider
BEGIN:VEVENT
DTSTART;TZID=UTC+0:20200131T230000
DTEND;TZID=UTC+0:20200201T010000
DTSTAMP:20260422T144521
CREATED:20200206T225027Z
LAST-MODIFIED:20200206T225027Z
UID:524-1580511600-1580518800@theandyrider.com
SUMMARY:Ccabaret!
DESCRIPTION:Fun variety show for the night owls.  Stand-up\, sketch\, clown\, improv and free water and parking! \n
URL:http://theandyrider.com/?tribe_events=ccabaret-2
LOCATION:1607 N. Vermont Avenue\, Los Angeles\, CA\, 90027\, United States
END:VEVENT
END:VCALENDAR