BEGIN:VCALENDAR
VERSION:2.0
PRODID:-//Andy Rider - ECPv4.5.12.2//NONSGML v1.0//EN
CALSCALE:GREGORIAN
METHOD:PUBLISH
X-WR-CALNAME:Andy Rider
X-ORIGINAL-URL:http://theandyrider.com
X-WR-CALDESC:Events for Andy Rider
BEGIN:VEVENT
DTSTART;TZID=UTC+0:20200215T193000
DTEND;TZID=UTC+0:20200215T210000
DTSTAMP:20260422T090537
CREATED:20200206T230252Z
LAST-MODIFIED:20200206T230252Z
UID:532-1581795000-1581800400@theandyrider.com
SUMMARY:Best Fest Comedy Presents: Day After the Love Fest Fest
DESCRIPTION:Come out Saturday\, February 15th at 7:30 pm for the Day After the Love Fest Fest! As always\, there will be free parking\, free donuts\, a long list of wines\, and several great comics! \nThis month we’ve got Scott Vinci\, Monarey Martinez\, and Jordan Temple (Comedy Central) as well as your most awesome hosts\, Andy Rider\, Sami Sutker\, and Chris Chaisson. Biniam Bizuneh (Comedy Central) will be headlining.  To say we’re excited about this line-up is underselling it.  Come on out and feel the love everyone! \n
URL:http://theandyrider.com/?tribe_events=best-fest-comedy-presents-day-after-the-love-fest-fest
LOCATION:3111 Glendale Blvd\, Los Angeles\, CA\, United States
END:VEVENT
END:VCALENDAR