BEGIN:VCALENDAR
VERSION:2.0
PRODID:-//Andy Rider - ECPv4.5.12.2//NONSGML v1.0//EN
CALSCALE:GREGORIAN
METHOD:PUBLISH
X-WR-CALNAME:Andy Rider
X-ORIGINAL-URL:http://theandyrider.com
X-WR-CALDESC:Events for Andy Rider
BEGIN:VEVENT
DTSTART;TZID=UTC+0:20200130T193000
DTEND;TZID=UTC+0:20200130T210000
DTSTAMP:20260422T175304
CREATED:20200206T224856Z
LAST-MODIFIED:20200206T224856Z
UID:522-1580412600-1580418000@theandyrider.com
SUMMARY:Beautiful Babies
DESCRIPTION:A fun show in the cellar of a wine bar with some of the funniest people I know!  Free show\, lots of wine options and a really cool atmosphere. \n
URL:http://theandyrider.com/?tribe_events=beautiful-babies-3
LOCATION:3111 Glendale Blvd\, Los Angeles\, CA\, United States
END:VEVENT
END:VCALENDAR