BEGIN:VCALENDAR
VERSION:2.0
PRODID:-//Andy Rider - ECPv4.5.12.2//NONSGML v1.0//EN
CALSCALE:GREGORIAN
METHOD:PUBLISH
X-WR-CALNAME:Andy Rider
X-ORIGINAL-URL:http://theandyrider.com
X-WR-CALDESC:Events for Andy Rider
BEGIN:VEVENT
DTSTART;TZID=UTC+0:20191003T193000
DTEND;TZID=UTC+0:20191003T210000
DTSTAMP:20260423T080552
CREATED:20191001T180009Z
LAST-MODIFIED:20191001T180009Z
UID:469-1570131000-1570136400@theandyrider.com
SUMMARY:Beautiful Babies
DESCRIPTION:On a hot\, hot show at Oeno Vino with Cameron Esposito\, MK Paulsen\, Lauri Roggenkamp\, Lindsay Adams\, Rohita Kadambi\, Colin Hughes\, Todd Masterson and Amber Preston! \n
URL:http://theandyrider.com/?tribe_events=beautiful-babies-2
LOCATION:3111 Glendale Blvd\, Los Angeles\, CA\, United States
END:VEVENT
END:VCALENDAR